BEGIN:VCALENDAR
VERSION:2.0
PRODID:-//Christa Vander Schoot - Yoga &amp; Wellness Coaching - ECPv6.15.14//NONSGML v1.0//EN
CALSCALE:GREGORIAN
METHOD:PUBLISH
X-ORIGINAL-URL:https://christavanderschoot.com
X-WR-CALDESC:Events for Christa Vander Schoot - Yoga &amp; Wellness Coaching
REFRESH-INTERVAL;VALUE=DURATION:PT1H
X-Robots-Tag:noindex
X-PUBLISHED-TTL:PT1H
BEGIN:VTIMEZONE
TZID:Asia/Colombo
BEGIN:STANDARD
TZOFFSETFROM:+0530
TZOFFSETTO:+0530
TZNAME:+0530
DTSTART:20240101T000000
END:STANDARD
END:VTIMEZONE
BEGIN:VEVENT
DTSTART;TZID=Asia/Colombo:20251104T080000
DTEND;TZID=Asia/Colombo:20251104T100000
DTSTAMP:20260419T184031
CREATED:20251102T073207Z
LAST-MODIFIED:20251102T073904Z
UID:680-1762243200-1762250400@christavanderschoot.com
SUMMARY:YOGA CLASSES
DESCRIPTION:Learn the basics of Yoga
URL:https://christavanderschoot.com/event/yoga-classes/
LOCATION:Colombo 08\, Colombo\, Western\, Sri Lanka
END:VEVENT
END:VCALENDAR